BEGIN:VCALENDAR
VERSION:2.0
PRODID:-//LA Regional SBDC Network - ECPv6.15.13.1//NONSGML v1.0//EN
CALSCALE:GREGORIAN
METHOD:PUBLISH
X-ORIGINAL-URL:https://smallbizla.org
X-WR-CALDESC:Events for LA Regional SBDC Network
REFRESH-INTERVAL;VALUE=DURATION:PT1H
X-Robots-Tag:noindex
X-PUBLISHED-TTL:PT1H
BEGIN:VTIMEZONE
TZID:UTC
BEGIN:STANDARD
TZOFFSETFROM:+0000
TZOFFSETTO:+0000
TZNAME:UTC
DTSTART:20150101T000000
END:STANDARD
END:VTIMEZONE
BEGIN:VEVENT
DTSTART;TZID=UTC:20161218T080000
DTEND;TZID=UTC:20161218T170000
DTSTAMP:20260424T051231
CREATED:20161215T082550Z
LAST-MODIFIED:20161215T082550Z
UID:6397-1482048000-1482080400@smallbizla.org
SUMMARY:asdfadsf
DESCRIPTION:asdfasdfads
URL:https://smallbizla.org/workshop/asdfadsf/
LOCATION:Los Angeles Chamber Of Commerce\, 350 S. Bixel St.\, Los Angeles\, CA\, 90027e\, United States
GEO:34.0569399;-118.2597013
X-APPLE-STRUCTURED-LOCATION;VALUE=URI;X-ADDRESS=Los Angeles Chamber Of Commerce 350 S. Bixel St. Los Angeles CA 90027e United States;X-APPLE-RADIUS=500;X-TITLE=350 S. Bixel St.:geo:-118.2597013,34.0569399
END:VEVENT
BEGIN:VEVENT
DTSTART;TZID=UTC:20160713T073000
DTEND;TZID=UTC:20160713T090000
DTSTAMP:20260424T051231
CREATED:20160702T025654Z
LAST-MODIFIED:20160702T025654Z
UID:3924-1468395000-1468400400@smallbizla.org
SUMMARY:Building Your Business through Civic Engagement
DESCRIPTION:Civic engagement not only helps your community thrive\, but also creates priceless advertising and a support network for your business that is crucial to your success. Join us to hear from Marlo Richardson as she speaks on the importance of civic engagement to small business success. Learn how spending time involved in your community can help your business become more than just a name.
URL:https://smallbizla.org/workshop/building-business-civic-engagement/
LOCATION:Los Angeles Chamber Of Commerce\, 350 S. Bixel St.\, Los Angeles\, CA\, 90027e\, United States
GEO:34.0569399;-118.2597013
X-APPLE-STRUCTURED-LOCATION;VALUE=URI;X-ADDRESS=Los Angeles Chamber Of Commerce 350 S. Bixel St. Los Angeles CA 90027e United States;X-APPLE-RADIUS=500;X-TITLE=350 S. Bixel St.:geo:-118.2597013,34.0569399
END:VEVENT
END:VCALENDAR