BEGIN:VCALENDAR
VERSION:2.0
PRODID:-//LA Regional SBDC Network - ECPv6.15.13.1//NONSGML v1.0//EN
CALSCALE:GREGORIAN
METHOD:PUBLISH
X-ORIGINAL-URL:https://smallbizla.org
X-WR-CALDESC:Events for LA Regional SBDC Network
REFRESH-INTERVAL;VALUE=DURATION:PT1H
X-Robots-Tag:noindex
X-PUBLISHED-TTL:PT1H
BEGIN:VTIMEZONE
TZID:America/Los_Angeles
BEGIN:DAYLIGHT
TZOFFSETFROM:-0800
TZOFFSETTO:-0700
TZNAME:PDT
DTSTART:20180311T100000
END:DAYLIGHT
BEGIN:STANDARD
TZOFFSETFROM:-0700
TZOFFSETTO:-0800
TZNAME:PST
DTSTART:20181104T090000
END:STANDARD
BEGIN:DAYLIGHT
TZOFFSETFROM:-0800
TZOFFSETTO:-0700
TZNAME:PDT
DTSTART:20190310T100000
END:DAYLIGHT
BEGIN:STANDARD
TZOFFSETFROM:-0700
TZOFFSETTO:-0800
TZNAME:PST
DTSTART:20191103T090000
END:STANDARD
BEGIN:DAYLIGHT
TZOFFSETFROM:-0800
TZOFFSETTO:-0700
TZNAME:PDT
DTSTART:20200308T100000
END:DAYLIGHT
BEGIN:STANDARD
TZOFFSETFROM:-0700
TZOFFSETTO:-0800
TZNAME:PST
DTSTART:20201101T090000
END:STANDARD
END:VTIMEZONE
BEGIN:VEVENT
DTSTART;TZID=America/Los_Angeles:20190606T083000
DTEND;TZID=America/Los_Angeles:20190606T123000
DTSTAMP:20260422T042452
CREATED:20190510T205929Z
LAST-MODIFIED:20190606T174202Z
UID:46931-1559809800-1559824200@smallbizla.org
SUMMARY:La Verne Small Business Tax Seminar
DESCRIPTION:Small Business Seminars (SBS) are half day one-stop shop seminars that bring subject experts from California tax agencies. Business owners can learn about tax issues and get their questions answered on compliance with California tax laws and regulations. \n  \n  \n  \nTopics:\n– Avoiding Common Sales and Use Tax Problems\n– Employee or Independent Contractor?\n– Better Business through Better Records\n– Forms of Ownership \n  \nREGISTER NOW
URL:https://smallbizla.org/workshop/la-verne-small-business-tax-seminar/
LOCATION:University of La Verne Abraham Campus Center\, 2000 2nd Street\, La Verne\, CA\, 91750\, United States
CATEGORIES:Hr & Hiring,Taxes
ATTACH;FMTTYPE=image/png:https://smallbizla.org/wp-content/uploads/2019/05/La-Verne-Tax-Seminar-e1557452169422.png
END:VEVENT
END:VCALENDAR